BEGIN:VCALENDAR
VERSION:2.0
PRODID:-//85.13.156.197//NONSGML kigkonsult.se iCalcreator 2.20//
CALSCALE:GREGORIAN
METHOD:PUBLISH
X-WR-TIMEZONE:Europe/Berlin
BEGIN:VEVENT
UID:event5426@Guttempler in Düsseldorf
DTSTAMP:20260425T034748Z
CATEGORIES:Guttempler-Gemeinschaft »Rheinfels«
DESCRIPTION:Gruppen-Abend Gemeinschaft »Rheinfels«\nVeranstalter: Guttemple
 r-Gemeinschaft »Rheinfels«\nICS-Link: https://guttempler-duesseldorf.de/in
 dex.php?option=com_jem&view=event&id=5426:gruppen-abend-gemeinschaft-rhein
 fels\n
DTSTART;TZID=Europe/Berlin:20260428T193000
DTEND;TZID=Europe/Berlin:20260428T193000
LOCATION:Guttemplerhaus\,Eisenstraße 49\,40227 Düsseldorf\,Germany
SUMMARY:Gruppen-Abend Gemeinschaft »Rheinfels«
URL:https://guttempler-duesseldorf.de/index.php?option=com_jem&view=event&i
 d=5426:gruppen-abend-gemeinschaft-rheinfels
END:VEVENT
BEGIN:VEVENT
UID:event5427@Guttempler in Düsseldorf
DTSTAMP:20260425T034748Z
CATEGORIES:Guttempler-Gemeinschaft »Rheinfels«
DESCRIPTION:Gruppen-Abend Gemeinschaft »Rheinfels«\nVeranstalter: Guttemple
 r-Gemeinschaft »Rheinfels«\nICS-Link: https://guttempler-duesseldorf.de/in
 dex.php?option=com_jem&view=event&id=5427:gruppen-abend-gemeinschaft-rhein
 fels\n
DTSTART;TZID=Europe/Berlin:20260428T193000
DTEND;TZID=Europe/Berlin:20260428T193000
LOCATION:Guttemplerhaus\,Eisenstraße 49\,40227 Düsseldorf\,Germany
SUMMARY:Gruppen-Abend Gemeinschaft »Rheinfels«
URL:https://guttempler-duesseldorf.de/index.php?option=com_jem&view=event&i
 d=5427:gruppen-abend-gemeinschaft-rheinfels
END:VEVENT
BEGIN:VEVENT
UID:event5425@Guttempler in Düsseldorf
DTSTAMP:20260425T034748Z
CATEGORIES:Guttempler-Gemeinschaft »Rheinfels«
DESCRIPTION:Gesprächsgruppe der Gemeinschaft »Rheinfels«\nVeranstalter: Gut
 templer-Gemeinschaft »Rheinfels«\nICS-Link: https://guttempler-duesseldorf
 .de/index.php?option=com_jem&view=event&id=5425:gespraechsgruppe-der-gemei
 nschaft-rheinfels\n
DTSTART;TZID=Europe/Berlin:20260428T193000
DTEND;TZID=Europe/Berlin:20260428T193000
LOCATION:Guttemplerhaus\,Eisenstraße 49\,40227 Düsseldorf\,Germany
SUMMARY:Gesprächsgruppe der Gemeinschaft »Rheinfels«
URL:https://guttempler-duesseldorf.de/index.php?option=com_jem&view=event&i
 d=5425:gespraechsgruppe-der-gemeinschaft-rheinfels
END:VEVENT
BEGIN:VEVENT
UID:event5437@Guttempler in Düsseldorf
DTSTAMP:20260425T034748Z
CATEGORIES:Guttempler-Gemeinschaft »Rheinfels«
DESCRIPTION:Gruppen-Abend Gemeinschaft »Rheinfels«\nVeranstalter: Guttemple
 r-Gemeinschaft »Rheinfels«\nICS-Link: https://guttempler-duesseldorf.de/in
 dex.php?option=com_jem&view=event&id=5437:gruppen-abend-gemeinschaft-rhein
 fels\n
DTSTART;TZID=Europe/Berlin:20260505T193000
DTEND;TZID=Europe/Berlin:20260505T193000
LOCATION:Guttemplerhaus\,Eisenstraße 49\,40227 Düsseldorf\,Germany
SUMMARY:Gruppen-Abend Gemeinschaft »Rheinfels«
URL:https://guttempler-duesseldorf.de/index.php?option=com_jem&view=event&i
 d=5437:gruppen-abend-gemeinschaft-rheinfels
END:VEVENT
BEGIN:VEVENT
UID:event5435@Guttempler in Düsseldorf
DTSTAMP:20260425T034748Z
CATEGORIES:Guttempler-Gemeinschaft »Rheinfels«
DESCRIPTION:Gruppen-Abend Gemeinschaft »Rheinfels«\nVeranstalter: Guttemple
 r-Gemeinschaft »Rheinfels«\nICS-Link: https://guttempler-duesseldorf.de/in
 dex.php?option=com_jem&view=event&id=5435:gruppen-abend-gemeinschaft-rhein
 fels\n
DTSTART;TZID=Europe/Berlin:20260505T193000
DTEND;TZID=Europe/Berlin:20260505T193000
LOCATION:Guttemplerhaus\,Eisenstraße 49\,40227 Düsseldorf\,Germany
SUMMARY:Gruppen-Abend Gemeinschaft »Rheinfels«
URL:https://guttempler-duesseldorf.de/index.php?option=com_jem&view=event&i
 d=5435:gruppen-abend-gemeinschaft-rheinfels
END:VEVENT
BEGIN:VEVENT
UID:event5436@Guttempler in Düsseldorf
DTSTAMP:20260425T034748Z
CATEGORIES:Guttempler-Gemeinschaft »Rheinfels«
DESCRIPTION:Gesprächsgruppe der Gemeinschaft »Rheinfels«\nVeranstalter: Gut
 templer-Gemeinschaft »Rheinfels«\nICS-Link: https://guttempler-duesseldorf
 .de/index.php?option=com_jem&view=event&id=5436:gespraechsgruppe-der-gemei
 nschaft-rheinfels\n
DTSTART;TZID=Europe/Berlin:20260505T193000
DTEND;TZID=Europe/Berlin:20260505T193000
LOCATION:Guttemplerhaus\,Eisenstraße 49\,40227 Düsseldorf\,Germany
SUMMARY:Gesprächsgruppe der Gemeinschaft »Rheinfels«
URL:https://guttempler-duesseldorf.de/index.php?option=com_jem&view=event&i
 d=5436:gespraechsgruppe-der-gemeinschaft-rheinfels
END:VEVENT
BEGIN:VEVENT
UID:event5445@Guttempler in Düsseldorf
DTSTAMP:20260425T034748Z
CATEGORIES:Guttempler-Gemeinschaft »Rheinfels«
DESCRIPTION:Gruppen-Abend Gemeinschaft »Rheinfels«\nVeranstalter: Guttemple
 r-Gemeinschaft »Rheinfels«\nICS-Link: https://guttempler-duesseldorf.de/in
 dex.php?option=com_jem&view=event&id=5445:gruppen-abend-gemeinschaft-rhein
 fels\n
DTSTART;TZID=Europe/Berlin:20260512T193000
DTEND;TZID=Europe/Berlin:20260512T193000
LOCATION:Guttemplerhaus\,Eisenstraße 49\,40227 Düsseldorf\,Germany
SUMMARY:Gruppen-Abend Gemeinschaft »Rheinfels«
URL:https://guttempler-duesseldorf.de/index.php?option=com_jem&view=event&i
 d=5445:gruppen-abend-gemeinschaft-rheinfels
END:VEVENT
BEGIN:VEVENT
UID:event5444@Guttempler in Düsseldorf
DTSTAMP:20260425T034748Z
CATEGORIES:Guttempler-Gemeinschaft »Rheinfels«
DESCRIPTION:Gruppen-Abend Gemeinschaft »Rheinfels«\nVeranstalter: Guttemple
 r-Gemeinschaft »Rheinfels«\nICS-Link: https://guttempler-duesseldorf.de/in
 dex.php?option=com_jem&view=event&id=5444:gruppen-abend-gemeinschaft-rhein
 fels\n
DTSTART;TZID=Europe/Berlin:20260512T193000
DTEND;TZID=Europe/Berlin:20260512T193000
LOCATION:Guttemplerhaus\,Eisenstraße 49\,40227 Düsseldorf\,Germany
SUMMARY:Gruppen-Abend Gemeinschaft »Rheinfels«
URL:https://guttempler-duesseldorf.de/index.php?option=com_jem&view=event&i
 d=5444:gruppen-abend-gemeinschaft-rheinfels
END:VEVENT
BEGIN:VEVENT
UID:event5443@Guttempler in Düsseldorf
DTSTAMP:20260425T034748Z
CATEGORIES:Guttempler-Gemeinschaft »Rheinfels«
DESCRIPTION:Gesprächsgruppe der Gemeinschaft »Rheinfels«\nVeranstalter: Gut
 templer-Gemeinschaft »Rheinfels«\nICS-Link: https://guttempler-duesseldorf
 .de/index.php?option=com_jem&view=event&id=5443:gespraechsgruppe-der-gemei
 nschaft-rheinfels\n
DTSTART;TZID=Europe/Berlin:20260512T193000
DTEND;TZID=Europe/Berlin:20260512T193000
LOCATION:Guttemplerhaus\,Eisenstraße 49\,40227 Düsseldorf\,Germany
SUMMARY:Gesprächsgruppe der Gemeinschaft »Rheinfels«
URL:https://guttempler-duesseldorf.de/index.php?option=com_jem&view=event&i
 d=5443:gespraechsgruppe-der-gemeinschaft-rheinfels
END:VEVENT
BEGIN:VEVENT
UID:event5455@Guttempler in Düsseldorf
DTSTAMP:20260425T034748Z
CATEGORIES:Guttempler-Gemeinschaft »Rheinfels«
DESCRIPTION:Gruppen-Abend Gemeinschaft »Rheinfels«\nVeranstalter: Guttemple
 r-Gemeinschaft »Rheinfels«\nICS-Link: https://guttempler-duesseldorf.de/in
 dex.php?option=com_jem&view=event&id=5455:gruppen-abend-gemeinschaft-rhein
 fels\n
DTSTART;TZID=Europe/Berlin:20260519T193000
DTEND;TZID=Europe/Berlin:20260519T193000
LOCATION:Guttemplerhaus\,Eisenstraße 49\,40227 Düsseldorf\,Germany
SUMMARY:Gruppen-Abend Gemeinschaft »Rheinfels«
URL:https://guttempler-duesseldorf.de/index.php?option=com_jem&view=event&i
 d=5455:gruppen-abend-gemeinschaft-rheinfels
END:VEVENT
BEGIN:VEVENT
UID:event5457@Guttempler in Düsseldorf
DTSTAMP:20260425T034748Z
CATEGORIES:Guttempler-Gemeinschaft »Rheinfels«
DESCRIPTION:Gruppen-Abend Gemeinschaft »Rheinfels«\nVeranstalter: Guttemple
 r-Gemeinschaft »Rheinfels«\nICS-Link: https://guttempler-duesseldorf.de/in
 dex.php?option=com_jem&view=event&id=5457:gruppen-abend-gemeinschaft-rhein
 fels\n
DTSTART;TZID=Europe/Berlin:20260519T193000
DTEND;TZID=Europe/Berlin:20260519T193000
LOCATION:Guttemplerhaus\,Eisenstraße 49\,40227 Düsseldorf\,Germany
SUMMARY:Gruppen-Abend Gemeinschaft »Rheinfels«
URL:https://guttempler-duesseldorf.de/index.php?option=com_jem&view=event&i
 d=5457:gruppen-abend-gemeinschaft-rheinfels
END:VEVENT
BEGIN:VEVENT
UID:event5456@Guttempler in Düsseldorf
DTSTAMP:20260425T034748Z
CATEGORIES:Guttempler-Gemeinschaft »Rheinfels«
DESCRIPTION:Gesprächsgruppe der Gemeinschaft »Rheinfels«\nVeranstalter: Gut
 templer-Gemeinschaft »Rheinfels«\nICS-Link: https://guttempler-duesseldorf
 .de/index.php?option=com_jem&view=event&id=5456:gespraechsgruppe-der-gemei
 nschaft-rheinfels\n
DTSTART;TZID=Europe/Berlin:20260519T193000
DTEND;TZID=Europe/Berlin:20260519T193000
LOCATION:Guttemplerhaus\,Eisenstraße 49\,40227 Düsseldorf\,Germany
SUMMARY:Gesprächsgruppe der Gemeinschaft »Rheinfels«
URL:https://guttempler-duesseldorf.de/index.php?option=com_jem&view=event&i
 d=5456:gespraechsgruppe-der-gemeinschaft-rheinfels
END:VEVENT
BEGIN:VEVENT
UID:event5467@Guttempler in Düsseldorf
DTSTAMP:20260425T034748Z
CATEGORIES:Guttempler-Gemeinschaft »Rheinfels«
DESCRIPTION:Gruppen-Abend Gemeinschaft »Rheinfels«\nVeranstalter: Guttemple
 r-Gemeinschaft »Rheinfels«\nICS-Link: https://guttempler-duesseldorf.de/in
 dex.php?option=com_jem&view=event&id=5467:gruppen-abend-gemeinschaft-rhein
 fels\n
DTSTART;TZID=Europe/Berlin:20260526T193000
DTEND;TZID=Europe/Berlin:20260526T193000
LOCATION:Guttemplerhaus\,Eisenstraße 49\,40227 Düsseldorf\,Germany
SUMMARY:Gruppen-Abend Gemeinschaft »Rheinfels«
URL:https://guttempler-duesseldorf.de/index.php?option=com_jem&view=event&i
 d=5467:gruppen-abend-gemeinschaft-rheinfels
END:VEVENT
BEGIN:VEVENT
UID:event5465@Guttempler in Düsseldorf
DTSTAMP:20260425T034748Z
CATEGORIES:Guttempler-Gemeinschaft »Rheinfels«
DESCRIPTION:Gruppen-Abend Gemeinschaft »Rheinfels«\nVeranstalter: Guttemple
 r-Gemeinschaft »Rheinfels«\nICS-Link: https://guttempler-duesseldorf.de/in
 dex.php?option=com_jem&view=event&id=5465:gruppen-abend-gemeinschaft-rhein
 fels\n
DTSTART;TZID=Europe/Berlin:20260526T193000
DTEND;TZID=Europe/Berlin:20260526T193000
LOCATION:Guttemplerhaus\,Eisenstraße 49\,40227 Düsseldorf\,Germany
SUMMARY:Gruppen-Abend Gemeinschaft »Rheinfels«
URL:https://guttempler-duesseldorf.de/index.php?option=com_jem&view=event&i
 d=5465:gruppen-abend-gemeinschaft-rheinfels
END:VEVENT
BEGIN:VEVENT
UID:event5466@Guttempler in Düsseldorf
DTSTAMP:20260425T034748Z
CATEGORIES:Guttempler-Gemeinschaft »Rheinfels«
DESCRIPTION:Gesprächsgruppe der Gemeinschaft »Rheinfels«\nVeranstalter: Gut
 templer-Gemeinschaft »Rheinfels«\nICS-Link: https://guttempler-duesseldorf
 .de/index.php?option=com_jem&view=event&id=5466:gespraechsgruppe-der-gemei
 nschaft-rheinfels\n
DTSTART;TZID=Europe/Berlin:20260526T193000
DTEND;TZID=Europe/Berlin:20260526T193000
LOCATION:Guttemplerhaus\,Eisenstraße 49\,40227 Düsseldorf\,Germany
SUMMARY:Gesprächsgruppe der Gemeinschaft »Rheinfels«
URL:https://guttempler-duesseldorf.de/index.php?option=com_jem&view=event&i
 d=5466:gespraechsgruppe-der-gemeinschaft-rheinfels
END:VEVENT
BEGIN:VEVENT
UID:event5478@Guttempler in Düsseldorf
DTSTAMP:20260425T034748Z
CATEGORIES:Guttempler-Gemeinschaft »Rheinfels«
DESCRIPTION:Gruppen-Abend Gemeinschaft »Rheinfels«\nVeranstalter: Guttemple
 r-Gemeinschaft »Rheinfels«\nICS-Link: https://guttempler-duesseldorf.de/in
 dex.php?option=com_jem&view=event&id=5478:gruppen-abend-gemeinschaft-rhein
 fels\n
DTSTART;TZID=Europe/Berlin:20260602T193000
DTEND;TZID=Europe/Berlin:20260602T193000
LOCATION:Guttemplerhaus\,Eisenstraße 49\,40227 Düsseldorf\,Germany
SUMMARY:Gruppen-Abend Gemeinschaft »Rheinfels«
URL:https://guttempler-duesseldorf.de/index.php?option=com_jem&view=event&i
 d=5478:gruppen-abend-gemeinschaft-rheinfels
END:VEVENT
BEGIN:VEVENT
UID:event5479@Guttempler in Düsseldorf
DTSTAMP:20260425T034748Z
CATEGORIES:Guttempler-Gemeinschaft »Rheinfels«
DESCRIPTION:Gruppen-Abend Gemeinschaft »Rheinfels«\nVeranstalter: Guttemple
 r-Gemeinschaft »Rheinfels«\nICS-Link: https://guttempler-duesseldorf.de/in
 dex.php?option=com_jem&view=event&id=5479:gruppen-abend-gemeinschaft-rhein
 fels\n
DTSTART;TZID=Europe/Berlin:20260602T193000
DTEND;TZID=Europe/Berlin:20260602T193000
LOCATION:Guttemplerhaus\,Eisenstraße 49\,40227 Düsseldorf\,Germany
SUMMARY:Gruppen-Abend Gemeinschaft »Rheinfels«
URL:https://guttempler-duesseldorf.de/index.php?option=com_jem&view=event&i
 d=5479:gruppen-abend-gemeinschaft-rheinfels
END:VEVENT
BEGIN:VEVENT
UID:event5477@Guttempler in Düsseldorf
DTSTAMP:20260425T034748Z
CATEGORIES:Guttempler-Gemeinschaft »Rheinfels«
DESCRIPTION:Gesprächsgruppe der Gemeinschaft »Rheinfels«\nVeranstalter: Gut
 templer-Gemeinschaft »Rheinfels«\nICS-Link: https://guttempler-duesseldorf
 .de/index.php?option=com_jem&view=event&id=5477:gespraechsgruppe-der-gemei
 nschaft-rheinfels\n
DTSTART;TZID=Europe/Berlin:20260602T193000
DTEND;TZID=Europe/Berlin:20260602T193000
LOCATION:Guttemplerhaus\,Eisenstraße 49\,40227 Düsseldorf\,Germany
SUMMARY:Gesprächsgruppe der Gemeinschaft »Rheinfels«
URL:https://guttempler-duesseldorf.de/index.php?option=com_jem&view=event&i
 d=5477:gespraechsgruppe-der-gemeinschaft-rheinfels
END:VEVENT
BEGIN:VEVENT
UID:event5487@Guttempler in Düsseldorf
DTSTAMP:20260425T034748Z
CATEGORIES:Guttempler-Gemeinschaft »Rheinfels«
DESCRIPTION:Gruppen-Abend Gemeinschaft »Rheinfels«\nVeranstalter: Guttemple
 r-Gemeinschaft »Rheinfels«\nICS-Link: https://guttempler-duesseldorf.de/in
 dex.php?option=com_jem&view=event&id=5487:gruppen-abend-gemeinschaft-rhein
 fels\n
DTSTART;TZID=Europe/Berlin:20260609T193000
DTEND;TZID=Europe/Berlin:20260609T193000
LOCATION:Guttemplerhaus\,Eisenstraße 49\,40227 Düsseldorf\,Germany
SUMMARY:Gruppen-Abend Gemeinschaft »Rheinfels«
URL:https://guttempler-duesseldorf.de/index.php?option=com_jem&view=event&i
 d=5487:gruppen-abend-gemeinschaft-rheinfels
END:VEVENT
BEGIN:VEVENT
UID:event5486@Guttempler in Düsseldorf
DTSTAMP:20260425T034748Z
CATEGORIES:Guttempler-Gemeinschaft »Rheinfels«
DESCRIPTION:Gruppen-Abend Gemeinschaft »Rheinfels«\nVeranstalter: Guttemple
 r-Gemeinschaft »Rheinfels«\nICS-Link: https://guttempler-duesseldorf.de/in
 dex.php?option=com_jem&view=event&id=5486:gruppen-abend-gemeinschaft-rhein
 fels\n
DTSTART;TZID=Europe/Berlin:20260609T193000
DTEND;TZID=Europe/Berlin:20260609T193000
LOCATION:Guttemplerhaus\,Eisenstraße 49\,40227 Düsseldorf\,Germany
SUMMARY:Gruppen-Abend Gemeinschaft »Rheinfels«
URL:https://guttempler-duesseldorf.de/index.php?option=com_jem&view=event&i
 d=5486:gruppen-abend-gemeinschaft-rheinfels
END:VEVENT
BEGIN:VEVENT
UID:event5485@Guttempler in Düsseldorf
DTSTAMP:20260425T034748Z
CATEGORIES:Guttempler-Gemeinschaft »Rheinfels«
DESCRIPTION:Gesprächsgruppe der Gemeinschaft »Rheinfels«\nVeranstalter: Gut
 templer-Gemeinschaft »Rheinfels«\nICS-Link: https://guttempler-duesseldorf
 .de/index.php?option=com_jem&view=event&id=5485:gespraechsgruppe-der-gemei
 nschaft-rheinfels\n
DTSTART;TZID=Europe/Berlin:20260609T193000
DTEND;TZID=Europe/Berlin:20260609T193000
LOCATION:Guttemplerhaus\,Eisenstraße 49\,40227 Düsseldorf\,Germany
SUMMARY:Gesprächsgruppe der Gemeinschaft »Rheinfels«
URL:https://guttempler-duesseldorf.de/index.php?option=com_jem&view=event&i
 d=5485:gespraechsgruppe-der-gemeinschaft-rheinfels
END:VEVENT
BEGIN:VEVENT
UID:event5496@Guttempler in Düsseldorf
DTSTAMP:20260425T034748Z
CATEGORIES:Guttempler-Gemeinschaft »Rheinfels«
DESCRIPTION:Gruppen-Abend Gemeinschaft »Rheinfels«\nVeranstalter: Guttemple
 r-Gemeinschaft »Rheinfels«\nICS-Link: https://guttempler-duesseldorf.de/in
 dex.php?option=com_jem&view=event&id=5496:gruppen-abend-gemeinschaft-rhein
 fels\n
DTSTART;TZID=Europe/Berlin:20260616T193000
DTEND;TZID=Europe/Berlin:20260616T193000
LOCATION:Guttemplerhaus\,Eisenstraße 49\,40227 Düsseldorf\,Germany
SUMMARY:Gruppen-Abend Gemeinschaft »Rheinfels«
URL:https://guttempler-duesseldorf.de/index.php?option=com_jem&view=event&i
 d=5496:gruppen-abend-gemeinschaft-rheinfels
END:VEVENT
BEGIN:VEVENT
UID:event5497@Guttempler in Düsseldorf
DTSTAMP:20260425T034748Z
CATEGORIES:Guttempler-Gemeinschaft »Rheinfels«
DESCRIPTION:Gruppen-Abend Gemeinschaft »Rheinfels«\nVeranstalter: Guttemple
 r-Gemeinschaft »Rheinfels«\nICS-Link: https://guttempler-duesseldorf.de/in
 dex.php?option=com_jem&view=event&id=5497:gruppen-abend-gemeinschaft-rhein
 fels\n
DTSTART;TZID=Europe/Berlin:20260616T193000
DTEND;TZID=Europe/Berlin:20260616T193000
LOCATION:Guttemplerhaus\,Eisenstraße 49\,40227 Düsseldorf\,Germany
SUMMARY:Gruppen-Abend Gemeinschaft »Rheinfels«
URL:https://guttempler-duesseldorf.de/index.php?option=com_jem&view=event&i
 d=5497:gruppen-abend-gemeinschaft-rheinfels
END:VEVENT
BEGIN:VEVENT
UID:event5495@Guttempler in Düsseldorf
DTSTAMP:20260425T034748Z
CATEGORIES:Guttempler-Gemeinschaft »Rheinfels«
DESCRIPTION:Gesprächsgruppe der Gemeinschaft »Rheinfels«\nVeranstalter: Gut
 templer-Gemeinschaft »Rheinfels«\nICS-Link: https://guttempler-duesseldorf
 .de/index.php?option=com_jem&view=event&id=5495:gespraechsgruppe-der-gemei
 nschaft-rheinfels\n
DTSTART;TZID=Europe/Berlin:20260616T193000
DTEND;TZID=Europe/Berlin:20260616T193000
LOCATION:Guttemplerhaus\,Eisenstraße 49\,40227 Düsseldorf\,Germany
SUMMARY:Gesprächsgruppe der Gemeinschaft »Rheinfels«
URL:https://guttempler-duesseldorf.de/index.php?option=com_jem&view=event&i
 d=5495:gespraechsgruppe-der-gemeinschaft-rheinfels
END:VEVENT
BEGIN:VEVENT
UID:event5503@Guttempler in Düsseldorf
DTSTAMP:20260425T034748Z
CATEGORIES:Guttempler-Gemeinschaft »Rheinfels«
DESCRIPTION:Gruppen-Abend Gemeinschaft »Rheinfels«\nVeranstalter: Guttemple
 r-Gemeinschaft »Rheinfels«\nICS-Link: https://guttempler-duesseldorf.de/in
 dex.php?option=com_jem&view=event&id=5503:gruppen-abend-gemeinschaft-rhein
 fels\n
DTSTART;TZID=Europe/Berlin:20260623T193000
DTEND;TZID=Europe/Berlin:20260623T193000
LOCATION:Guttemplerhaus\,Eisenstraße 49\,40227 Düsseldorf\,Germany
SUMMARY:Gruppen-Abend Gemeinschaft »Rheinfels«
URL:https://guttempler-duesseldorf.de/index.php?option=com_jem&view=event&i
 d=5503:gruppen-abend-gemeinschaft-rheinfels
END:VEVENT
BEGIN:VEVENT
UID:event5504@Guttempler in Düsseldorf
DTSTAMP:20260425T034748Z
CATEGORIES:Guttempler-Gemeinschaft »Rheinfels«
DESCRIPTION:Gruppen-Abend Gemeinschaft »Rheinfels«\nVeranstalter: Guttemple
 r-Gemeinschaft »Rheinfels«\nICS-Link: https://guttempler-duesseldorf.de/in
 dex.php?option=com_jem&view=event&id=5504:gruppen-abend-gemeinschaft-rhein
 fels\n
DTSTART;TZID=Europe/Berlin:20260623T193000
DTEND;TZID=Europe/Berlin:20260623T193000
LOCATION:Guttemplerhaus\,Eisenstraße 49\,40227 Düsseldorf\,Germany
SUMMARY:Gruppen-Abend Gemeinschaft »Rheinfels«
URL:https://guttempler-duesseldorf.de/index.php?option=com_jem&view=event&i
 d=5504:gruppen-abend-gemeinschaft-rheinfels
END:VEVENT
BEGIN:VEVENT
UID:event5505@Guttempler in Düsseldorf
DTSTAMP:20260425T034748Z
CATEGORIES:Guttempler-Gemeinschaft »Rheinfels«
DESCRIPTION:Gesprächsgruppe der Gemeinschaft »Rheinfels«\nVeranstalter: Gut
 templer-Gemeinschaft »Rheinfels«\nICS-Link: https://guttempler-duesseldorf
 .de/index.php?option=com_jem&view=event&id=5505:gespraechsgruppe-der-gemei
 nschaft-rheinfels\n
DTSTART;TZID=Europe/Berlin:20260623T193000
DTEND;TZID=Europe/Berlin:20260623T193000
LOCATION:Guttemplerhaus\,Eisenstraße 49\,40227 Düsseldorf\,Germany
SUMMARY:Gesprächsgruppe der Gemeinschaft »Rheinfels«
URL:https://guttempler-duesseldorf.de/index.php?option=com_jem&view=event&i
 d=5505:gespraechsgruppe-der-gemeinschaft-rheinfels
END:VEVENT
END:VCALENDAR
